BEGIN:VCALENDAR
VERSION:2.0
PRODID:-//jEvents 2.0 for Joomla//EN
CALSCALE:GREGORIAN
METHOD:PUBLISH
BEGIN:VTIMEZONE
TZID:Asia/Kuala_Lumpur
BEGIN:STANDARD
DTSTART:20181013T080000
RDATE:20380119T111407
TZOFFSETFROM:+0800
TZOFFSETTO:+0800
TZNAME:Asia/Kuala_Lumpur +08
END:STANDARD
END:VTIMEZONE
BEGIN:VEVENT
UID:99267a02d9dc1882b307644b3d2428af
CATEGORIES:Oil & Gas
SUMMARY:Leadership Excellence for Women Awards & Symposium (LEWAS) 2019
LOCATION:Bahrain International Exhibition & Convention Centre
DESCRIPTION;ENCODING=QUOTED-PRINTABLE:\n\nLEWAS seeks to address the challenges and opportunities for women leade
 rs in the Energy industry. Over the years, LEWAS has gathered women leaders
  and empowered and motivated women to engage in discussions and panels that
  address the issue.\n
X-EXTRAINFO:https://www.lewa-symposium.org/
DTSTAMP:20260421T072204Z
DTSTART;TZID=Asia/Kuala_Lumpur:20191014T080000
DTEND;TZID=Asia/Kuala_Lumpur:20191016T170000
SEQUENCE:0
TRANSP:OPAQUE
END:VEVENT
END:VCALENDAR