BEGIN:VCALENDAR
VERSION:2.0
PRODID:-//jEvents 2.0 for Joomla//EN
CALSCALE:GREGORIAN
METHOD:PUBLISH
BEGIN:VTIMEZONE
TZID:Asia/Kuala_Lumpur
BEGIN:STANDARD
DTSTART:20131117T000000
RDATE:20380119T111407
TZOFFSETFROM:+0800
TZOFFSETTO:+0800
TZNAME:Asia/Kuala_Lumpur +08
END:STANDARD
END:VTIMEZONE
BEGIN:VEVENT
UID:1ce83d2917fa1a650148606eba37542a
CATEGORIES:Maritime 
SUMMARY:TRANS ASIA 2014
LOCATION:Suntec Singapore
DESCRIPTION;ENCODING=QUOTED-PRINTABLE: \n\nSingapore lies at the heart of the 10-country ASEAN region, comprising
  a market of over 620 million people and a combined GDP of over $2.2 trilli
 on (more than $3.3 trillion on a PPP basis). Nominal GDP is also forecast t
 o grow to more than $3.3 trillion by 2016.\nThe region continues to experie
 nce strong growth boosted by export-oriented businesses as global companies
  continue to diversify their manufacturing footprints away from China and d
 omestic markets too expanding as consumer wealth increases. As such, a pres
 ence at the inaugural TransAsia event will deliver a first-hand opportunity
  to benefit from this impressive market growth. Need more reasons to secure
  your presence at TransAsia? \nSingapore’s is deeply integrated with the lo
 gistics networks of neighbouring countries and is a key transhipment point.
  The city-state itself is a key player in air and sea logistics. Many logis
 tics companies based here and in the region adopt best-in-class practices a
 nd are eager to adopt the most cutting-edge solutions to maintain global co
 mpetitiveness.\nBoasting an impressive exhibition and conference infrastruc
 ture, Singapore is the region’s premier venue for regional events, with eas
 y and affordable intra-regional access ensuring attendance.\n
DTSTAMP:20260421T143810Z
DTSTART;TZID=Asia/Kuala_Lumpur;VALUE=DATE:20141118
DTEND;TZID=Asia/Kuala_Lumpur;VALUE=DATE:20141121
SEQUENCE:0
TRANSP:OPAQUE
END:VEVENT
END:VCALENDAR