BEGIN:VCALENDAR
VERSION:2.0
PRODID:-//jEvents 2.0 for Joomla//EN
CALSCALE:GREGORIAN
METHOD:PUBLISH
BEGIN:VTIMEZONE
TZID:Asia/Kuala_Lumpur
BEGIN:STANDARD
DTSTART:20181013T080000
RDATE:20380119T111407
TZOFFSETFROM:+0800
TZOFFSETTO:+0800
TZNAME:Asia/Kuala_Lumpur +08
END:STANDARD
END:VTIMEZONE
BEGIN:VEVENT
UID:a8ff37346f16e01f2f79c8c80971abac
CATEGORIES:Oil & Gas
SUMMARY:World Petroleum Council (WPC) Downstream Conference 2019
LOCATION:Bahrain International Exhibition & Convention Centre
DESCRIPTION;ENCODING=QUOTED-PRINTABLE:\n\nOrganized by the World Petroleum Council, the inaugural event will host
  high level professionals from the Downstream industry.  The event will bri
 ng together the strategic refining and petrochemical leadership to debate t
 he integrated approach to optimal delivery of the building blocks for human
  progress.\n
X-EXTRAINFO:https://www.wpcdownstream.org/
DTSTAMP:20260421T071656Z
DTSTART;TZID=Asia/Kuala_Lumpur:20191014T080000
DTEND;TZID=Asia/Kuala_Lumpur:20191016T170000
SEQUENCE:0
TRANSP:OPAQUE
END:VEVENT
END:VCALENDAR