BEGIN:VCALENDAR
VERSION:2.0
PRODID:-//jEvents 2.0 for Joomla//EN
CALSCALE:GREGORIAN
METHOD:PUBLISH
BEGIN:VTIMEZONE
TZID:Asia/Kuala_Lumpur
BEGIN:STANDARD
DTSTART:20181013T080000
RDATE:20380119T111407
TZOFFSETFROM:+0800
TZOFFSETTO:+0800
TZNAME:Asia/Kuala_Lumpur +08
END:STANDARD
END:VTIMEZONE
BEGIN:VEVENT
UID:b80c4316242f923ac246c67d12a6d0a4
CATEGORIES:Oil & Gas
SUMMARY:Middle East Process Engineering Conference & Exhibition (MEPEC) 2019
LOCATION:Bahrain International Exhibition & Convention Centre
DESCRIPTION;ENCODING=QUOTED-PRINTABLE:\n\nNow in its 5th edition, MEPEC is the definitive event for process engin
 eering; in today’s busy world the event brings together the international b
 usiness community to one business hub to make the most effective use of tim
 e.\n
X-EXTRAINFO:https://www.mepec.org/
DTSTAMP:20260421T071020Z
DTSTART;TZID=Asia/Kuala_Lumpur:20191014T080000
DTEND;TZID=Asia/Kuala_Lumpur:20191016T170000
SEQUENCE:0
TRANSP:OPAQUE
END:VEVENT
END:VCALENDAR