BEGIN:VCALENDAR
VERSION:2.0
PRODID:-//jEvents 2.0 for Joomla//EN
CALSCALE:GREGORIAN
METHOD:PUBLISH
BEGIN:VTIMEZONE
TZID:Asia/Kuala_Lumpur
BEGIN:STANDARD
DTSTART:20180616T080000
RDATE:20380119T111407
TZOFFSETFROM:+0800
TZOFFSETTO:+0800
TZNAME:Asia/Kuala_Lumpur +08
END:STANDARD
END:VTIMEZONE
BEGIN:VEVENT
UID:21e6638a593fc07f2cc254b65c688203
CATEGORIES:Oil & Gas
SUMMARY:Production Sharing Contracts 2019
LOCATION:Kuala Lumpur, Malaysia
DESCRIPTION;ENCODING=QUOTED-PRINTABLE:\n\nThe Production Sharing Contracts (PSC) course provides critical informa
 tion to create the right commercial framework for successful PSC negotiatio
 ns. It examines state-of-the-art practice and techniques in fiscal system, 
 analysis and design. Any type of ‘extractive industry’ will come under the 
 realm of the course including coal, gold & rock mining, geothermal, coal-be
 d methane, conventional oil & gas, shale oil & gas, deepwater, enhanced oil
  recovery, LNG & gas-fired power generation. And that is because the PSC co
 urse goes way beyond just PSCs.\n
CONTACT:COURSES
X-EXTRAINFO:https://www.cconnection.org/events/pscmodule1n2/
DTSTAMP:20260421T083025Z
DTSTART;TZID=Asia/Kuala_Lumpur:20190617T080000
DTEND;TZID=Asia/Kuala_Lumpur:20190621T170000
SEQUENCE:0
TRANSP:OPAQUE
END:VEVENT
END:VCALENDAR