BEGIN:VCALENDAR
VERSION:2.0
PRODID:-//jEvents 2.0 for Joomla//EN
CALSCALE:GREGORIAN
METHOD:PUBLISH
BEGIN:VTIMEZONE
TZID:Asia/Kuala_Lumpur
BEGIN:STANDARD
DTSTART:20181021T080000
RDATE:20380119T111407
TZOFFSETFROM:+0800
TZOFFSETTO:+0800
TZNAME:Asia/Kuala_Lumpur +08
END:STANDARD
END:VTIMEZONE
BEGIN:VEVENT
UID:e7f4b9405d6ad4bf098b343ac6f2e40d
CATEGORIES:Maritime 
SUMMARY:The Maritime Standard Tanker Conference 2019
LOCATION:Atlantis, the Palm, Dubai
DESCRIPTION;ENCODING=QUOTED-PRINTABLE:The fourth annual The Maritime Standard Tanker Conference will take place o
 n Tuesday 22nd October at the Atlantis, the Palm, Dubai. The first three ev
 ents have been both extraordinarily successful and popular, raising the pro
 file of the tanker shipping business regionally and globally. The selection
  of a larger venue in 2018 paid off with a much-increased delegate attendan
 ce and an even bigger audience is anticipated this year. Already establishe
 d as one of the leading events on the tanker shipping calendar, the Confere
 nce is aimed at key decision makers and high-level policy takers within the
  tanker shipping business. This year’s event takes place at a time of consi
 derable volatility and uncertainty within the tanker shipping business. Whi
 le some of the market fundamentals appear positive, there are significant c
 hallenges posed by the political-economic context, as well as the impositio
 n of new environmental rules. The Conference will focus on key market trend
 s in the crude, products, chemicals and gas tanker markets, giving attendee
 s a unique insight into the opportunities that exist and how to capitalise 
 on them. It will also assess ancillary sectors, such as the bunker supply, 
 law, ship agency and supplies, and petrochemicals trades.  The event is a m
 ust-attend, not only for tanker owners and operators, but all companies tha
 t provide products and services to this sector of the shipping industry. Th
 e intention is that attendees will leave the TMS Tanker Conference with a m
 uch clearer idea about future trade patterns, and market influences, so the
 y are better placed to build the foundations for longer term business growt
 h.\n
X-EXTRAINFO:Contact person: Ammaar Murtaza\nEmail: This email address is being protecte
 d from spambots. You need JavaScript enabled to view it.
 //
  \nTel: +971 
 4 3805556
DTSTAMP:20260421T113249Z
DTSTART;TZID=Asia/Kuala_Lumpur:20191022T080000
DTEND;TZID=Asia/Kuala_Lumpur:20191022T170000
SEQUENCE:0
TRANSP:OPAQUE
END:VEVENT
END:VCALENDAR