BEGIN:VCALENDAR
VERSION:2.0
PRODID:-//jEvents 2.0 for Joomla//EN
CALSCALE:GREGORIAN
METHOD:PUBLISH
BEGIN:VTIMEZONE
TZID:Asia/Kuala_Lumpur
BEGIN:STANDARD
DTSTART:20181001T080000
RDATE:20380119T111407
TZOFFSETFROM:+0800
TZOFFSETTO:+0800
TZNAME:Asia/Kuala_Lumpur +08
END:STANDARD
END:VTIMEZONE
BEGIN:VEVENT
UID:5caf472d78e1344bc3fcdc54e6f527c5
CATEGORIES:Oil & Gas
SUMMARY:POWERMAX 2019 
LOCATION:Jakarta, Indonesia
DESCRIPTION;ENCODING=QUOTED-PRINTABLE:\n\nPOWERMAX 2019 is Indonesia’s largest and the only Power, Electrical, Oi
 l & Gas, Clean and Renewable Energy Expo in conjunction with civil gas, wat
 er, electricity event that brings together an international congregation to
  build awareness of green energy and introduce the electricity power specif
 ically in clean and renewable energy sectors and also its supporting indust
 ries gathered in the heart of the electric and power industry in Indonesia 
 to showcase the latest developments in Indonesia’s massive power, electrica
 l, oil & gas, clean and renewable energy industry.\n
X-EXTRAINFO:https://www.myexpo.co.id/
DTSTAMP:20260421T072100Z
DTSTART;TZID=Asia/Kuala_Lumpur:20191002T080000
DTEND;TZID=Asia/Kuala_Lumpur:20191004T170000
SEQUENCE:0
TRANSP:OPAQUE
END:VEVENT
END:VCALENDAR