BEGIN:VCALENDAR
VERSION:2.0
PRODID:-//jEvents 2.0 for Joomla//EN
CALSCALE:GREGORIAN
METHOD:PUBLISH
BEGIN:VTIMEZONE
TZID:Asia/Kuala_Lumpur
BEGIN:STANDARD
DTSTART:20180812T080000
RDATE:20380119T111407
TZOFFSETFROM:+0800
TZOFFSETTO:+0800
TZNAME:Asia/Kuala_Lumpur +08
END:STANDARD
END:VTIMEZONE
BEGIN:VEVENT
UID:ba7c781d5440b1d1c8f7482bed98cbe2
CATEGORIES:Oil & Gas
SUMMARY:7th Indonesia International Geothermal Convention & Exhibition (IIGCE) 2019
LOCATION:Jakarta, Indonesia
DESCRIPTION;ENCODING=QUOTED-PRINTABLE:\n\n\nContinuous interests in geothermal energy, its strategic importance i
 n the energy-mix portfolio, huge potential of the resources in Indonesia, a
 nd the need to advancing further its development are some of the very compe
 lling facts for an annual  international business and technical forum to be
  held.  Indonesia has a long history and experience in geothermal - yet the
 re is still plenty of opportunities to leverage and benefit from all the pl
 ayers. The Indonesia International Geothermal Convention & Exhibition (IIGC
 E) thus provide a strategic avenue for geothermal forum in the region that 
 promotes and advances broader collaboration and sharing of innovative techn
 ologies and experiences amongst geothermal stakeholders. For the seventh co
 nsecutive years, Indonesia Geothermal Association (INAGA)  is proud to host
  and present again The 7th Indonesia International Geothermal Convention & 
 Exhibition (IIGCE) 2019, which is held in conjunction with INAGA’s Annual S
 cientific Meeting from 13 - 15 August 2019. The IIGCE 2019’s theme of “Maki
 ng Geothermal the Energy of Today” is a compelling desire of all stakeholde
 rs to advance the geothermal development in meeting the country’s energy ne
 eds.\nWe proudly encourage you to take part in this premier event of geothe
 rmal industry in the region and benefit from its strategic programs.\n
X-EXTRAINFO:http://iigce.com/
DTSTAMP:20260421T072215Z
DTSTART;TZID=Asia/Kuala_Lumpur:20190813T080000
DTEND;TZID=Asia/Kuala_Lumpur:20190815T170000
SEQUENCE:0
TRANSP:OPAQUE
END:VEVENT
END:VCALENDAR