BEGIN:VCALENDAR
VERSION:2.0
PRODID:-//jEvents 2.0 for Joomla//EN
CALSCALE:GREGORIAN
METHOD:PUBLISH
BEGIN:VTIMEZONE
TZID:Asia/Kuala_Lumpur
BEGIN:STANDARD
DTSTART:20180902T080000
RDATE:20380119T111407
TZOFFSETFROM:+0800
TZOFFSETTO:+0800
TZNAME:Asia/Kuala_Lumpur +08
END:STANDARD
END:VTIMEZONE
BEGIN:VEVENT
UID:c59da2727e1fddca4e040e08aebe8825
CATEGORIES:Maritime 
SUMMARY:GreenTech in Shipping USA Forum 2019
LOCATION:Miami, USA
DESCRIPTION;ENCODING=QUOTED-PRINTABLE:GreenTech in Shipping Global Forum in Hamburg exceeded all expectations and
  became one of the highest-quality Maritime events in Europe! Which is why 
 ALJ Group is proud to announce the equivalent event in the North America re
 gion. GreenTech in Shipping USA Forum is an event for Maritime leaders who 
 want to unlock successful business formula of the industry!\n
X-EXTRAINFO:https://www.usgreentechshipping.com/
DTSTAMP:20260421T071748Z
DTSTART;TZID=Asia/Kuala_Lumpur:20190903T080000
DTEND;TZID=Asia/Kuala_Lumpur:20190904T170000
SEQUENCE:0
TRANSP:OPAQUE
END:VEVENT
END:VCALENDAR