BEGIN:VCALENDAR
VERSION:2.0
PRODID:-//jEvents 2.0 for Joomla//EN
CALSCALE:GREGORIAN
METHOD:PUBLISH
BEGIN:VTIMEZONE
TZID:Asia/Kuala_Lumpur
BEGIN:STANDARD
DTSTART:20180924T080000
RDATE:20380119T111407
TZOFFSETFROM:+0800
TZOFFSETTO:+0800
TZNAME:Asia/Kuala_Lumpur +08
END:STANDARD
END:VTIMEZONE
BEGIN:VEVENT
UID:3676943042a4eb383adfdc240c5d0574
CATEGORIES:Maritime 
SUMMARY:Global Sustainable Shipping and Ports Forum 2019
LOCATION:Copenhagen, Denmark
DESCRIPTION;ENCODING=QUOTED-PRINTABLE:\n\n\nThe Global Sustainable Shipping and Ports Forum will tackle a great n
 umber of different issues pressing the Maritime industry, that all stakehol
 ders have a need to exchange their views on. The event will provide valuabl
 e insights from conference sessions, great networking opportunities and wil
 l offer an exhibition area, where the latest solutions and business improve
 ment ideas will be introduced!\n
X-EXTRAINFO:https://sustainable2030.com/
DTSTAMP:20260421T072214Z
DTSTART;TZID=Asia/Kuala_Lumpur:20190925T080000
DTEND;TZID=Asia/Kuala_Lumpur:20190926T170000
SEQUENCE:0
TRANSP:OPAQUE
END:VEVENT
END:VCALENDAR