BEGIN:VCALENDAR
VERSION:2.0
PRODID:-//jEvents 2.0 for Joomla//EN
CALSCALE:GREGORIAN
METHOD:PUBLISH
BEGIN:VTIMEZONE
TZID:Asia/Kuala_Lumpur
BEGIN:STANDARD
DTSTART:20180506T080000
RDATE:20380119T111407
TZOFFSETFROM:+0800
TZOFFSETTO:+0800
TZNAME:Asia/Kuala_Lumpur +08
END:STANDARD
END:VTIMEZONE
BEGIN:VEVENT
UID:173d74636f1e45834de618c652efe8a2
CATEGORIES:Oil & Gas
SUMMARY:CEE Small-Scale LNG Forum 2019
LOCATION:Vilnius, Lithuania
DESCRIPTION;ENCODING=QUOTED-PRINTABLE:\n\nSmall Scale LNG industry is booming in Eastern Europe! But success in t
 his market will not be open to all players. Companies that have the right s
 trategy and capabilities in place, and that can build partnerships across t
 he LNG value chain will benefit from the advantage. The Forum is for LNG in
 dustry leaders, who want to keep up to date with Small-Scale LNG latest tre
 nds and many other topics!\n
X-EXTRAINFO:https://ceesslng.com/ 
DTSTAMP:20260421T071019Z
DTSTART;TZID=Asia/Kuala_Lumpur:20190507T080000
DTEND;TZID=Asia/Kuala_Lumpur:20190508T170000
SEQUENCE:0
TRANSP:OPAQUE
END:VEVENT
END:VCALENDAR