BEGIN:VCALENDAR
VERSION:2.0
PRODID:-//jEvents 2.0 for Joomla//EN
CALSCALE:GREGORIAN
METHOD:PUBLISH
BEGIN:VTIMEZONE
TZID:Asia/Kuala_Lumpur
BEGIN:STANDARD
DTSTART:20180930T080000
RDATE:20380119T111407
TZOFFSETFROM:+0800
TZOFFSETTO:+0800
TZNAME:Asia/Kuala_Lumpur +08
END:STANDARD
END:VTIMEZONE
BEGIN:VEVENT
UID:e6a5a5f93114d6744afc2c53e9e215d8
CATEGORIES:Oil & Gas
SUMMARY:RAO/CIS Offshore 2019
LOCATION:ExpoForum Convention and Exhibition Center, St. Petersburg, Russia
DESCRIPTION;ENCODING=QUOTED-PRINTABLE:\n\nThe International Conference and Exhibition for Oil and Gas Resources D
 evelopment of the Russian Arctic and Continental Shelf that is held each tw
 o years has become traditional. This year it will be held 1-4 October.\nRAO
 /CIS Offshore is the event with more than twenty five-year history pioneere
 d by leading Russian scientists and the world’s largest oil & gas companies
 . RAO/CIS Offshore was commenced by the Government of the Russian Federatio
 n in 1993 and gained international recognition along with the events of sim
 ilar subject in Aberdeen, Stavanger, Houston and Baku. Now it is one of the
  key industry events of global scale.\n
X-EXTRAINFO:http://www.rao-offshore.com/
DTSTAMP:20260421T071012Z
DTSTART;TZID=Asia/Kuala_Lumpur:20191001T080000
DTEND;TZID=Asia/Kuala_Lumpur:20191004T170000
SEQUENCE:0
TRANSP:OPAQUE
END:VEVENT
END:VCALENDAR