BEGIN:VCALENDAR
VERSION:2.0
PRODID:-//jEvents 2.0 for Joomla//EN
CALSCALE:GREGORIAN
METHOD:PUBLISH
BEGIN:VTIMEZONE
TZID:Asia/Kuala_Lumpur
BEGIN:STANDARD
DTSTART:20180819T080000
RDATE:20380119T111407
TZOFFSETFROM:+0800
TZOFFSETTO:+0800
TZNAME:Asia/Kuala_Lumpur +08
END:STANDARD
END:VTIMEZONE
BEGIN:VEVENT
UID:d1fe1445664eeb34bbf8860922531a33
CATEGORIES:Maritime 
SUMMARY:Indonesia Marine & Offshore Expo 2019
LOCATION:Swissbel Hotel and Convention Centre Harbor Bay Batam, Indonesia
DESCRIPTION;ENCODING=QUOTED-PRINTABLE:\n\nThe 4th Indonesia Marine & Offshore Expo (IMOX) 2019 is an internationa
 l maritime and offshore event that brings an international congregation of 
 companies together in Indonesia’s largest shipbuilding industry, Batam. Thi
 s unique event which seeks to bring together more than 4,000 industry profe
 ssionals to tackle the pertinent concerns of the booming shipbuilding, mari
 time and offshore industries in Indonesia, from its technological front to 
 the changing market trends. The international character of Indonesia Marine
  & Offshore Expo (IMOX ) 2019, presents unparalleled marketing, education a
 nd networking opportunities. Indonesia Marine & Offshore Expo (IMOX) 2019, 
 Offers you the idea platform to explore new maritime, offshore, oil & gas a
 nd shipbuilding opportunities in Indonesia.\n
X-EXTRAINFO:www.batam-marine.com
DTSTAMP:20260421T103151Z
DTSTART;TZID=Asia/Kuala_Lumpur:20190820T080000
DTEND;TZID=Asia/Kuala_Lumpur:20190822T170000
SEQUENCE:0
TRANSP:OPAQUE
END:VEVENT
END:VCALENDAR