BEGIN:VCALENDAR
VERSION:2.0
PRODID:-//jEvents 2.0 for Joomla//EN
CALSCALE:GREGORIAN
METHOD:PUBLISH
BEGIN:VTIMEZONE
TZID:Asia/Kuala_Lumpur
BEGIN:STANDARD
DTSTART:20181124T080000
RDATE:20380119T111407
TZOFFSETFROM:+0800
TZOFFSETTO:+0800
TZNAME:Asia/Kuala_Lumpur +08
END:STANDARD
END:VTIMEZONE
BEGIN:VEVENT
UID:a6a20074ff1d7cfe38a51ceec60a3925
CATEGORIES:Oil & Gas
SUMMARY:Clean Energy Opportunity & Risk Analysis
LOCATION:Singapore
DESCRIPTION;ENCODING=QUOTED-PRINTABLE:Clean energy will increasingly have to build business cases with decreasing
  (or no) policy subsidy – which means greater market exposure. It also exis
 ts in market environments seeing rapid technological innovation and the blu
 rring of competitive boundaries.\nThis course will help you to think more c
 omprehensively about market and risk analysis, by encouraging you to do so 
 in a structured way and with example tools that you can take away and immed
 iately tailor to the specifics of your own business.\nIn particular, this c
 ourse will present and illustrate a systematic approach which considers not
  just current market conditions and project deliverability, but also busine
 ss sustainability (adaptability) in the face of future market change. We ca
 ll this approach “CODA” analysis, since it combines current market conditio
 ns with the outlook for market change, helping guide you towards a project 
 which is both deliverable and adaptable.\nSpecifically tailored to the clea
 n energy sector, you will identify key factors in market opportunities and\
 nbusiness risks, connect aspects of current planning with future risks and 
 examine ways to formalise the\nanalysis process (for example through method
 s such as checklists, scorecards and risk maps).\nAlthough the course will 
 use specific and up-to-date examples to illustrate key concepts and learnin
 g points, it’s important to note that the aim of the course is not to provi
 de single, simple answers to every specific challenge facing every differen
 t clean energy business developer or investor. Indeed, beware of anyone who
  tells you such simple answers exist! Instead the course encourages and hel
 ps you to think more comprehensively about market and risk analysis, in a s
 tructured way and with example tools that you can take away and immediately
  tailor to the specifics of your own business.\n\n\nIn addition to the pres
 ented materials, there will also be plenty of time dedicated to thinking fo
 r yourself, working on sample documents and discussing key issues and outco
 mes with the trainer and other attendees. As a result, this will be an inte
 nsive and highly interactive three days.\n
CONTACT:COURSES
X-EXTRAINFO:To register/enquire, please contact:\nAbigail Harris\nInfocus International
  Group\nTel: +65 6325 0215 | Email: abigail [at] infocusinternational [dot]
  com\nhttp://www.infocusinternational.com/cleanenergy/\n
DTSTAMP:20260421T070858Z
DTSTART;TZID=Asia/Kuala_Lumpur:20191125T080000
DTEND;TZID=Asia/Kuala_Lumpur:20191127T170000
SEQUENCE:0
TRANSP:OPAQUE
END:VEVENT
END:VCALENDAR