BEGIN:VCALENDAR
VERSION:2.0
PRODID:-//jEvents 2.0 for Joomla//EN
CALSCALE:GREGORIAN
METHOD:PUBLISH
BEGIN:VTIMEZONE
TZID:Asia/Kuala_Lumpur
BEGIN:STANDARD
DTSTART:20180915T080000
RDATE:20380119T111407
TZOFFSETFROM:+0800
TZOFFSETTO:+0800
TZNAME:Asia/Kuala_Lumpur +08
END:STANDARD
END:VTIMEZONE
BEGIN:VEVENT
UID:c7f9e730044d3067712804a8ef6d9a6e
CATEGORIES:Oil & Gas
SUMMARY:Power Project Finance
LOCATION:Johannesburg
DESCRIPTION;ENCODING=QUOTED-PRINTABLE:Project finance is widely used for large infrastructure projects including 
 thermal and renewable power projects. The technique enables project risks t
 o be allocated to the parties best able to manage them and facilitates the 
 raising of long-term debt without recourse to the project developer.\nThe c
 orrect allocation of risk through an appropriate commercial structure is th
 e foundation of a sound financing plan and this course will develop these t
 hemes by walking through the commercial contracts and finance documentation
  and provide an understanding of how to determine the optimal amount of deb
 t using cash flow and ratio analysis. Current circumstances in the African 
 power project sector will be discussed.\nInvestment committees need to be s
 ure that all risk aspects have been studied and the course will detail the 
 key elements of the due diligence exercise. The course will also provide a 
 guide on how to approach the debt market.\n
CONTACT:COURSES
X-EXTRAINFO:To register/enquire, please contact:\nAbigail Harris\nInfocus International
  Group\nTel: +65 6325 0215 | Email: abigail [at] infocusinternational [dot]
  com\nhttp://www.infocusinternational.com/powerprojectfinance\n
DTSTAMP:20260421T071733Z
DTSTART;TZID=Asia/Kuala_Lumpur:20190916T080000
DTEND;TZID=Asia/Kuala_Lumpur:20190920T170000
SEQUENCE:0
TRANSP:OPAQUE
END:VEVENT
END:VCALENDAR