BEGIN:VCALENDAR
VERSION:2.0
PRODID:-//jEvents 2.0 for Joomla//EN
CALSCALE:GREGORIAN
METHOD:PUBLISH
BEGIN:VTIMEZONE
TZID:Asia/Kuala_Lumpur
BEGIN:STANDARD
DTSTART:20180804T080000
RDATE:20380119T111407
TZOFFSETFROM:+0800
TZOFFSETTO:+0800
TZNAME:Asia/Kuala_Lumpur +08
END:STANDARD
END:VTIMEZONE
BEGIN:VEVENT
UID:e362fe416a14ded3eaaff65e4bcb2219
CATEGORIES:Oil & Gas
SUMMARY:Electricity Economics in Changing Electricity Markets
LOCATION:Singapore
DESCRIPTION;ENCODING=QUOTED-PRINTABLE:Are you ready for the new challenges & opportunities as power markets aroun
 d the world evolve?\nThis is an essential core knowledge course for those i
 nvolved in the business or regulation of the power industry.\nIt leads you 
 through a clear, accessible and thorough examination of the economics of po
 wer generation, from power plant cost influences to end-customer prices. It
  contextualises this analysis with key consideration of industry drivers an
 d trends, including increasingly liberalised and competitive markets, evolv
 ing policy support and management frameworks, the growth and integration of
  renewable power sources, and the restructuring of power systems towards mo
 re decentralised operations.\nA highly interactive presentation style allow
 s for plenty of Q&A and time to discuss the issues from multiple stakeholde
 r perspectives; including power plant owners, investors, policymakers and e
 nergy customers. This course is an essential primer for those seeking to na
 vigate successful business routes through transitioning electricity systems
 .\n
CONTACT:COURSES
X-EXTRAINFO:To register/enquire, please contact:\nAbigail Harris\nInfocus International
  Group\nTel: +65 6325 0215 | Email: abigail [at] infocusinternational [dot]
  com\nhttp://www.infocusinternational.com/electricityeconomics\n
DTSTAMP:20260421T072236Z
DTSTART;TZID=Asia/Kuala_Lumpur:20190805T080000
DTEND;TZID=Asia/Kuala_Lumpur:20190807T170000
SEQUENCE:0
TRANSP:OPAQUE
END:VEVENT
END:VCALENDAR