BEGIN:VCALENDAR
VERSION:2.0
PRODID:-//jEvents 2.0 for Joomla//EN
CALSCALE:GREGORIAN
METHOD:PUBLISH
BEGIN:VTIMEZONE
TZID:Asia/Kuala_Lumpur
BEGIN:STANDARD
DTSTART:20180707T080000
RDATE:20380119T111407
TZOFFSETFROM:+0800
TZOFFSETTO:+0800
TZNAME:Asia/Kuala_Lumpur +08
END:STANDARD
END:VTIMEZONE
BEGIN:VEVENT
UID:194c3a4b2ff44352ff2712141ca2c166
CATEGORIES:Oil & Gas
SUMMARY:Mastering Solar Power
LOCATION:Singapore
DESCRIPTION;ENCODING=QUOTED-PRINTABLE:A comprehensive, up-to-date and business-focused roadmap to success in deli
 vering solar power growth, today and tomorrow.\nAttendees will leave with a
  good understanding the key factors from an integrated, multidisciplinary a
 nd commercial viewpoint, including: target market analysis, economic compet
 itiveness, channels-to-market, financing influences and risk, project devel
 opment processes, best practices and emerging technologies.\nThe course sch
 edule includes time to work in groups to apply the learning and illustrate 
 key project development considerations, by discussing, developing and quant
 ifying an initial business proposal for a solar PV power plant. To do so, a
 ttendees will utilise energy yield, financial and other simple calculations
 , along with the chance to debate key planning and market environment consi
 derations.\nIn keeping with the business-focused theme of the course, these
  illustrative exercises are designed to provide time-efficient clarificatio
 n of the key course takeaways, aimed at commercially-focused business devel
 opers and investors. They are therefore accessible to nonexperts, not desig
 ned to replicate the complex or in-depth detailed planning undertaken - ove
 r much longer periods! - by engineers and technical teams.\n
CONTACT:COURSES
X-EXTRAINFO:To register/enquire, please contact:\nAbigail Harris\nInfocus International
  Group\nTel: +65 6325 0215 | Email: abigail [at] infocusinternational [dot]
  com\nhttp://www.infocusinternational.com/solar\n
DTSTAMP:20260421T071605Z
DTSTART;TZID=Asia/Kuala_Lumpur:20190708T080000
DTEND;TZID=Asia/Kuala_Lumpur:20190711T170000
SEQUENCE:0
TRANSP:OPAQUE
END:VEVENT
END:VCALENDAR