BEGIN:VCALENDAR
VERSION:2.0
PRODID:-//jEvents 2.0 for Joomla//EN
CALSCALE:GREGORIAN
METHOD:PUBLISH
BEGIN:VTIMEZONE
TZID:Asia/Kuala_Lumpur
BEGIN:STANDARD
DTSTART:20180826T080000
RDATE:20380119T111407
TZOFFSETFROM:+0800
TZOFFSETTO:+0800
TZNAME:Asia/Kuala_Lumpur +08
END:STANDARD
END:VTIMEZONE
BEGIN:VEVENT
UID:8aa11c410b1a6d1f40d4e8f4c84dccbe
CATEGORIES:Maritime 
SUMMARY:Philippines Infrastructure Conference 2019
LOCATION:Marriot Hotel, Philippines
DESCRIPTION;ENCODING=QUOTED-PRINTABLE:\n\nPhilippines Infrastructure Conference 2019 will be happening on August 
 27-29, 2019 at Marriot Hotel, Philippines. It is an infrastructure developm
 ent themed conference and exhibition in Manila that aims to unite 1000+ inf
 rastructure industry decision-makers and experts from government authority,
  project owners, designers, EPC contractors and technology companies. It is
  set to discuss on some challenging issues and forge partnership in infrast
 ructure sector. This event provides a powerful international platform for t
 he infrastructure and transportation sectors to interact and share common i
 ssues, goals and solutions, with a particular and unique focus on the Inves
 tment and Funding Mode, Road & Bridge, Power Infrastructure, Water Infrastr
 ucture, Smart City, Port and Logistic Infrastructure and ICT infrastructure
 s.\n
X-EXTRAINFO:Contact Person: Princess Flores\nThis email address is being protected from
  spambots. You need JavaScript enabled to view it.
 //
 \n(M) + 63916 680 9
 756
DTSTAMP:20260421T071748Z
DTSTART;TZID=Asia/Kuala_Lumpur:20190827T080000
DTEND;TZID=Asia/Kuala_Lumpur:20190829T170000
SEQUENCE:0
TRANSP:OPAQUE
END:VEVENT
END:VCALENDAR