BEGIN:VCALENDAR
VERSION:2.0
PRODID:-//jEvents 2.0 for Joomla//EN
CALSCALE:GREGORIAN
METHOD:PUBLISH
BEGIN:VTIMEZONE
TZID:Asia/Kuala_Lumpur
BEGIN:STANDARD
DTSTART:20181020T080000
RDATE:20380119T111407
TZOFFSETFROM:+0800
TZOFFSETTO:+0800
TZNAME:Asia/Kuala_Lumpur +08
END:STANDARD
END:VTIMEZONE
BEGIN:VEVENT
UID:6edb3bff040d26e31cbe19d5d74a97d3
CATEGORIES:Maritime 
SUMMARY:The Maritime Standard Awards 2019
LOCATION:Atlantis, the Palm, Dubai
DESCRIPTION;ENCODING=QUOTED-PRINTABLE:\n\nA glittering, high quality occasion, attended by key decision makers fr
 om across the Middle East and the Indian Subcontinent, The Maritime Standar
 d Awards recognise the achievements of the industry’s outstanding performer
 s and celebrate and reward their successes. Despite being launched only fiv
 e years ago, The Maritime Standard (TMS) Awards has earned the right to be 
 referred to as the region’s premiere shipping and maritime awards event.\n 
 \n All five of the events that have taken place to date have be graced with
  the patronage of His Highness Sheikh Ahmed bin Saeed Al Maktoum, underlini
 ng the esteem in which they are held. Also, all have been staged at the pre
 stigious Atlantis Ballroom, on The Palm, Dubai.\n \n Each of the TMS Awards
  evenings has attracted over 700 of the region’s elite decision makers, inc
 luding chairmen, chief executives and directors from many leading shipping 
 companies, ports, terminal operators and maritime companies and organisatio
 ns. Attendees have come not just from across the Middle East and Subcontine
 nt, but globally also.\n \n Preparations for the 6th Annual Maritime Standa
 rd Awards are now well underway. It has been confirmed that The Maritime St
 andard Awards will again this year take place at the Atlantis, The Palm, Du
 bai on Monday 21st October 2019. More details will appear on this website a
 s and when they are confirmed.\n
X-EXTRAINFO:Contact person: Ammaar Murtaza\nEmail: This email address is being protecte
 d from spambots. You need JavaScript enabled to view it.
 //
  \nTel: +971 
 4 3805556\n
DTSTAMP:20260421T072526Z
DTSTART;TZID=Asia/Kuala_Lumpur:20191021T080000
DTEND;TZID=Asia/Kuala_Lumpur:20191021T170000
SEQUENCE:0
TRANSP:OPAQUE
END:VEVENT
END:VCALENDAR