BEGIN:VCALENDAR
VERSION:2.0
PRODID:-//jEvents 2.0 for Joomla//EN
CALSCALE:GREGORIAN
METHOD:PUBLISH
BEGIN:VTIMEZONE
TZID:Asia/Kuala_Lumpur
BEGIN:STANDARD
DTSTART:20181015T100000
RDATE:20380119T111407
TZOFFSETFROM:+0800
TZOFFSETTO:+0800
TZNAME:Asia/Kuala_Lumpur +08
END:STANDARD
END:VTIMEZONE
BEGIN:VEVENT
UID:4f2dd9385f0ed4005f06c283a0d38b65
CATEGORIES:Maritime 
SUMMARY:Indonesia Maritime Expo (IME) 2019
LOCATION:Jakarta International Expo (JIExpo), Kemayoran, Jakarta, Indonesia
DESCRIPTION;ENCODING=QUOTED-PRINTABLE:\n\n\nIndonesia Maritime Expo is present as the preferred venue to strength
 en presence and enhance visibility of marine and seaborne trade in Indonesi
 a marketplace. This event will be much anticipated as a perfect platform to
  provide insights with expectations, challenges and opportunities for the m
 aritime, shipping, port and logistics service providers and manufactures, a
 lso to showcase the cutting-edge maritime defense products and services.\nG
 iven the vast potential growth in this important sector, Indonesia Maritime
  Expo will also run concurrently with the exclusive conference that will pr
 esent the expertise from related background. Nevertheless, Indonesia Mariti
 me Expo will be the perfect place for buyers to gather market information a
 bout naval technology, learn industry insider information; and also for ven
 dors to showcase their products and services to this high potential market.
  IME gather worldwide maritime community in one place to showcased, sharing
  knowledge and also build a business network.  As a Pioneer in the industry
 , IME is supported by many key players in Indonesia and also the Government
  and Association.\n
X-EXTRAINFO:https://www.maritimexpo.co.id/Home/
DTSTAMP:20260421T071748Z
DTSTART;TZID=Asia/Kuala_Lumpur:20191016T100000
DTEND;TZID=Asia/Kuala_Lumpur:20191018T170000
SEQUENCE:0
TRANSP:OPAQUE
END:VEVENT
END:VCALENDAR