BEGIN:VCALENDAR
VERSION:2.0
PRODID:-//jEvents 2.0 for Joomla//EN
CALSCALE:GREGORIAN
METHOD:PUBLISH
BEGIN:VTIMEZONE
TZID:Asia/Kuala_Lumpur
BEGIN:STANDARD
DTSTART:20131021T000000
RDATE:20380119T111407
TZOFFSETFROM:+0800
TZOFFSETTO:+0800
TZNAME:Asia/Kuala_Lumpur +08
END:STANDARD
END:VTIMEZONE
BEGIN:VEVENT
UID:db8e397658e5d1ee25048eb287eaecea
CATEGORIES:Maritime 
SUMMARY:The 2nd edition of INAMARINE 2014 Batam
LOCATION:Swillbel Hotel Harbour Bay - Batam, Indonesia
DESCRIPTION;ENCODING=QUOTED-PRINTABLE:\n\nThe resounding success of INAMARINE 2014, held along with INACOATING 20
 14, attracted 261 exhibiting companies from 15 countries, 12,940 trade atte
 ndees from over 21 countries and occupied total area 12,000 sqm gross, has 
 further proved as the Indonesia’s largest trade show for marine engineering
  & equipment, shipyards, shipbuilding and offshore. The Expo has become the
  most influence marketplace to boost sales and gain exposure as well as mee
 ting with key decision makers and potential buyers in maritime industry.\n\
 n\nAs the most influential and comprehensive event, INAMARINE Batam 2014 ta
 king place from 22 – 24 October 2014 at the Swiss Belhotel Harbour Bay, Bat
 am – Indonesia will be expanded to be bigger and qualified networking platf
 orm of the maritime industry to generate more qualified visitors and intern
 ational platform. INAMARINE Batam 2014 will be co-locating with INAWELDING 
 Batam 2014, INACOATING Batam 2014 and IIML Batam 2014 (Material Handling an
 d Logistic).  It will be notably serve as one of the world’s most prospecti
 ve one-stop exhibition for suppliers and any shipyard, shipbuilding, offsho
 re, port, welding, coating and other related industries.\n
CONTACT:FREE MAP DISTRIBUTION
DTSTAMP:20260421T143809Z
DTSTART;TZID=Asia/Kuala_Lumpur;VALUE=DATE:20141022
DTEND;TZID=Asia/Kuala_Lumpur;VALUE=DATE:20141025
SEQUENCE:0
TRANSP:OPAQUE
END:VEVENT
END:VCALENDAR