BEGIN:VCALENDAR
VERSION:2.0
PRODID:-//jEvents 2.0 for Joomla//EN
CALSCALE:GREGORIAN
METHOD:PUBLISH
BEGIN:VTIMEZONE
TZID:Asia/Kuala_Lumpur
BEGIN:STANDARD
DTSTART:20181201T080000
RDATE:20380119T111407
TZOFFSETFROM:+0800
TZOFFSETTO:+0800
TZNAME:Asia/Kuala_Lumpur +08
END:STANDARD
END:VTIMEZONE
BEGIN:VEVENT
UID:d06f12b6911eac688493545897ab8446
CATEGORIES:Oil & Gas
SUMMARY:2nd Gas&LNG Middle East Summit 2019
LOCATION:Oman
DESCRIPTION;ENCODING=QUOTED-PRINTABLE:\n\nGas & LNG industry experts and leading executives will once again gathe
 r at the exclusive 2nd Gas & LNG Middle East Summit in Oman on December 2-3
 , 2019. The high-class event is designed to give attendees maximum results 
 with informational sessions featuring world-renowned speakers, premium netw
 orking breaks that are perfect to start partnerships with key decision-make
 rs and an outstanding exhibition. The closed-door atmosphere of the Summit 
 will give countless opportunities to meet and connect with the top manageme
 nt of important Gas & LNG companies in the Middle East and abroad. It’s the
  must-attend event for every professional, looking to establish themselves 
 and their services in the Gas & LNG market.\n
X-EXTRAINFO:https://www.gasoman.com/
DTSTAMP:20260421T072236Z
DTSTART;TZID=Asia/Kuala_Lumpur:20191202T080000
DTEND;TZID=Asia/Kuala_Lumpur:20191203T170000
SEQUENCE:0
TRANSP:OPAQUE
END:VEVENT
END:VCALENDAR