BEGIN:VCALENDAR
VERSION:2.0
PRODID:-//jEvents 2.0 for Joomla//EN
CALSCALE:GREGORIAN
METHOD:PUBLISH
BEGIN:VTIMEZONE
TZID:Asia/Kuala_Lumpur
BEGIN:STANDARD
DTSTART:20181104T080000
RDATE:20380119T111407
TZOFFSETFROM:+0800
TZOFFSETTO:+0800
TZNAME:Asia/Kuala_Lumpur +08
END:STANDARD
END:VTIMEZONE
BEGIN:VEVENT
UID:5b9e73c284c2d48544eb802eba4ef171
CATEGORIES:Oil & Gas
SUMMARY:Gas & LNG Technologies Summit 2019
LOCATION:Vancouver, Canada
DESCRIPTION;ENCODING=QUOTED-PRINTABLE:\n\n\nThe new era of digitalization is spreading to various industries, and
  the Gas & LNG sector is no exception. New technologies are being developed
  every day, and to stay ahead of the market, operators across the value cha
 in need to stay informed. The Gas & LNG Technologies Summit will be held in
  Vancouver, Canada on November 5th, 2019, providing a perfect platform to g
 ather all the relevant information about cutting-edge innovations & solutio
 ns. Expert speakers, high-level executives, renowned innovators and even in
 dustry disruptors will come together to share their ideas and network. It’s
  the best chance for Gas & LNG professionals to stay in the know about the 
 changing landscape of technological development in the sector.\n
X-EXTRAINFO:https://wisdom.events/
DTSTAMP:20260421T071012Z
DTSTART;TZID=Asia/Kuala_Lumpur:20191105T080000
DTEND;TZID=Asia/Kuala_Lumpur:20191105T170000
SEQUENCE:0
TRANSP:OPAQUE
END:VEVENT
END:VCALENDAR