BEGIN:VCALENDAR
VERSION:2.0
PRODID:-//jEvents 2.0 for Joomla//EN
CALSCALE:GREGORIAN
METHOD:PUBLISH
BEGIN:VTIMEZONE
TZID:Asia/Kuala_Lumpur
BEGIN:STANDARD
DTSTART:20180617T080000
RDATE:20380119T111407
TZOFFSETFROM:+0800
TZOFFSETTO:+0800
TZNAME:Asia/Kuala_Lumpur +08
END:STANDARD
END:VTIMEZONE
BEGIN:VEVENT
UID:3acb77b267e16cd4a13e8177ba1d5fca
CATEGORIES:Oil & Gas
SUMMARY:4th International LNG Summit 2019
LOCATION:Felix Conference Centre, Oslo, Norway
DESCRIPTION;ENCODING=QUOTED-PRINTABLE:Continuing the high standards of previous years, the 4th International LNG 
 Summit in Oslo, Norway will welcome world-renowned industry experts and dec
 ision-makers on 18 June 2019 to share & exchange knowledge about latest inn
 ovations, strategic approaches, actionable tools and technologies necessary
  to run a profitable LNG business. The dynamic event will offer you the opp
 ortunity to meet and interact with leading LNG industry professionals acros
 s the entire value chain during the focus exhibition, networking breaks and
  social activities. This unique combination will allow attendees to conduct
  formal face to face meetings and informal conversations while learning how
  to achieve maximum results in the LNG market. \n
X-EXTRAINFO:https://www.lngsummit.org/
DTSTAMP:20260421T071656Z
DTSTART;TZID=Asia/Kuala_Lumpur:20190618T080000
DTEND;TZID=Asia/Kuala_Lumpur:20190618T170000
SEQUENCE:0
TRANSP:OPAQUE
END:VEVENT
END:VCALENDAR