BEGIN:VCALENDAR
VERSION:2.0
PRODID:-//jEvents 2.0 for Joomla//EN
CALSCALE:GREGORIAN
METHOD:PUBLISH
BEGIN:VTIMEZONE
TZID:Asia/Kuala_Lumpur
BEGIN:STANDARD
DTSTART:20190930T080000
RDATE:20380119T111407
TZOFFSETFROM:+0800
TZOFFSETTO:+0800
TZNAME:Asia/Kuala_Lumpur +08
END:STANDARD
END:VTIMEZONE
BEGIN:VEVENT
UID:4294144e2e041dd3af2ccba8be43c67e
CATEGORIES:Maritime 
SUMMARY:Asia Pacific Maritime (APM V-CONNECT) 2020
DESCRIPTION;ENCODING=QUOTED-PRINTABLE:\n\n\n\n\nReed Exhibitions announced the postponement of the 16th edition o
 f Asia Pacific Maritime (APM) rescheduled for 16 - 18 March 2022, due to co
 ntinuing global restrictions on travel and business activities brought abou
 t by the COVID-19 pandemic. In the meantime, APM will be launching a series
  of online conferences and expo from September 2020 to continue to provide 
 the industry with meaningful ways to connect, stay updated and do business.
  While we won’t be able to host APM this year, we look forward to deliverin
 g an inspiring digital APM, and also returning stronger with the industry f
 or our next live edition in 2022, at Marina Bay Sands.\n\n\n \n
CONTACT:Online Conference
X-EXTRAINFO:Website: https://www.apmaritime.com/\nContact email: This email address is 
 being protected from spambots. You need JavaScript enabled to view it.
 //

  \nTelephone: +65 6780 4602\n
DTSTAMP:20260421T054753Z
DTSTART;TZID=Asia/Kuala_Lumpur:20200930T080000
DTEND;TZID=Asia/Kuala_Lumpur:20201231T170000
SEQUENCE:0
TRANSP:OPAQUE
END:VEVENT
END:VCALENDAR