BEGIN:VCALENDAR
VERSION:2.0
PRODID:-//jEvents 2.0 for Joomla//EN
CALSCALE:GREGORIAN
METHOD:PUBLISH
BEGIN:VTIMEZONE
TZID:Asia/Kuala_Lumpur
BEGIN:STANDARD
DTSTART:20190211T080000
RDATE:20380119T111407
TZOFFSETFROM:+0800
TZOFFSETTO:+0800
TZNAME:Asia/Kuala_Lumpur +08
END:STANDARD
END:VTIMEZONE
BEGIN:VEVENT
UID:68650811c3d7d10485cf45c70db9e91d
CATEGORIES:Oil & Gas
SUMMARY:FUTURE ENERGY ASIA 2020
LOCATION:BITEC, BANGKOK, THAILAND
DESCRIPTION;ENCODING=QUOTED-PRINTABLE:
CONTACT:FREE MAP DISTRIBUTION
X-EXTRAINFO:http://www.futureenergyasia.com/
DTSTAMP:20260421T055022Z
DTSTART;TZID=Asia/Kuala_Lumpur:20200212T080000
DTEND;TZID=Asia/Kuala_Lumpur:20200214T170000
SEQUENCE:0
TRANSP:OPAQUE
END:VEVENT
END:VCALENDAR