BEGIN:VCALENDAR
VERSION:2.0
PRODID:-//jEvents 2.0 for Joomla//EN
CALSCALE:GREGORIAN
METHOD:PUBLISH
BEGIN:VTIMEZONE
TZID:Asia/Kuala_Lumpur
BEGIN:STANDARD
DTSTART:20191006T080000
RDATE:20380119T111407
TZOFFSETFROM:+0800
TZOFFSETTO:+0800
TZNAME:Asia/Kuala_Lumpur +08
END:STANDARD
END:VTIMEZONE
BEGIN:VEVENT
UID:2a1afef9a2f3b53439f57b9f3148ed21
CATEGORIES:Oil & Gas
SUMMARY:MOGSEC 2020
LOCATION:Kuala Lumpur, Malaysia
DESCRIPTION;ENCODING=QUOTED-PRINTABLE:The 5th Malaysian Oil & Gas Services Exhibition and Conference 2020 (MOGSEC
  2020) will be held from 22 to 24 September 2020 at the Kuala Lumpur Conven
 tion Centre.\nThe 3-day exhibition themed “Resilient Energy Hub for the Reg
 ion” will be a testament to the reality of how the Malaysian Oil & Gas indu
 stry rebound with a leaner and stronger foundation and plays a significant 
 role in the economic development of Malaysia.\nMOGSEC 2020 will be a showca
 se of the Malaysian Oil & Gas stakeholders whose innovation, solutions and 
 products will be on display. There will also be new and relevant segments i
 nvolving Maritime and Offshore field while tying in elements of the Industr
 y’s move towards Digitization along with key highlights on Human Capital De
 velopment. \n
CONTACT:Virtual Event
X-EXTRAINFO:http://www.mogsec.com.my/
DTSTAMP:20260421T054753Z
DTSTART;TZID=Asia/Kuala_Lumpur:20201006T080000
DTEND;TZID=Asia/Kuala_Lumpur:20201008T170000
SEQUENCE:0
TRANSP:OPAQUE
END:VEVENT
END:VCALENDAR