BEGIN:VCALENDAR
VERSION:2.0
PRODID:-//jEvents 2.0 for Joomla//EN
CALSCALE:GREGORIAN
METHOD:PUBLISH
BEGIN:VTIMEZONE
TZID:Asia/Kuala_Lumpur
BEGIN:STANDARD
DTSTART:20191124T100000
RDATE:20380119T111407
TZOFFSETFROM:+0800
TZOFFSETTO:+0800
TZNAME:Asia/Kuala_Lumpur +08
END:STANDARD
END:VTIMEZONE
BEGIN:VEVENT
UID:9f8fec65e7e54545b986a367d4c0a0e2
CATEGORIES:Oil & Gas
SUMMARY:OSEA 2020
LOCATION:Virtual Exhibition
DESCRIPTION;ENCODING=QUOTED-PRINTABLE:\n\n\n\n\nFirst launched in 1976, OSEA has since grown to be the largest an
 d most established oil & gas industry event in Asia. OSEA has been deliveri
 ng content that is most sought after by trade professionals and continues t
 o remain relevant by being acutely aware of the industry’s trends and needs
 .\n\n\n \n\n\nBacked by strong support from the oil & gas community, OSEA h
 as consistently attracted a high level of international participation. At O
 SEA 2018, close to 1,000 exhibitors and 16 international group pavilions sh
 owcased an extensive range of equipment, innovations, and services for 15,0
 00 trade visitors from 65 countries/regions.\n\n\n \n\n\nMark your calendar
 s for OSEA2020, returning 24 – 26 Nov 2020 as a virtual event.\n\n\n \n
CONTACT:Virtual Exhibition / FREE MAP DISTRIBUTION
X-EXTRAINFO:Ms. Mary Jane Tan, This email address is being protected from spambots. You
  need JavaScript enabled to view it.
 //
 \nhttps://www.osea-asia.com/
DTSTAMP:20260421T054753Z
DTSTART;TZID=Asia/Kuala_Lumpur:20201124T100000
DTEND;TZID=Asia/Kuala_Lumpur:20201126T180000
SEQUENCE:0
TRANSP:OPAQUE
END:VEVENT
END:VCALENDAR