BEGIN:VCALENDAR
VERSION:2.0
PRODID:-//jEvents 2.0 for Joomla//EN
CALSCALE:GREGORIAN
METHOD:PUBLISH
BEGIN:VTIMEZONE
TZID:Asia/Kuala_Lumpur
BEGIN:STANDARD
DTSTART:20190112T080000
RDATE:20380119T111407
TZOFFSETFROM:+0800
TZOFFSETTO:+0800
TZNAME:Asia/Kuala_Lumpur +08
END:STANDARD
END:VTIMEZONE
BEGIN:VEVENT
UID:944ed6b56a33fd36ebcfc81ae7478856
CATEGORIES:Oil & Gas
SUMMARY:International Petroleum Technology Conference (IPTC) 2020
LOCATION:Dhahran EXPO, Saudi Arabia
DESCRIPTION;ENCODING=QUOTED-PRINTABLE:
X-EXTRAINFO:http://2020.iptcnet.org/welcome
DTSTAMP:20260421T055914Z
DTSTART;TZID=Asia/Kuala_Lumpur:20200113T080000
DTEND;TZID=Asia/Kuala_Lumpur:20200115T170000
SEQUENCE:0
TRANSP:OPAQUE
END:VEVENT
END:VCALENDAR