BEGIN:VCALENDAR
VERSION:2.0
PRODID:-//jEvents 2.0 for Joomla//EN
CALSCALE:GREGORIAN
METHOD:PUBLISH
BEGIN:VTIMEZONE
TZID:Asia/Kuala_Lumpur
BEGIN:STANDARD
DTSTART:20180514T080000
RDATE:20380119T111407
TZOFFSETFROM:+0800
TZOFFSETTO:+0800
TZNAME:Asia/Kuala_Lumpur +08
END:STANDARD
END:VTIMEZONE
BEGIN:VEVENT
UID:2bb820883f30775203d551c1731b6be0
CATEGORIES:Oil & Gas
SUMMARY:Oil&Gas Uzbekistan 2019 (OGU) 
LOCATION:Uzexpocentre National Exhibition Complex, Tashkent, Uzbekistan
DESCRIPTION;ENCODING=QUOTED-PRINTABLE:\n\nThe largest event in the oil and gas sector of Uzbekistan - the 23rd In
 ternational Exhibition and Conference Oil & Gas Uzbekistan 2019 will be hel
 d from 15 to 17 of May, 2019 in the Uzexpocentre National Exhibition Comple
 x, Tashkent, Uzbekistan. The exhibition is organized by Iteca Exhibitions I
 nternational Exhibition Company and its partner, the ITE Group of Companies
 .\nOil&Gas Uzbekistan 2019 (OGU) is an international platform for key event
 s in the oil and gas industry of the region. Annually, OGU Exhibition and C
 onference gather partners from oil and gas production, equipment manufactur
 ing and infrastructure development.\nAs many as 74 companies from 14 countr
 ies have already confirmed their participation in the Exhibition, namely: A
 ustria, Azerbaijan, Germany, Italian Republic, Kazakhstan, PRC, the Republi
 c of Korea, Monaco, Russian Federation, Singapore, Turkish Republic, Uzbeki
 stan, Ukraine and Switzerland.\nThe Exhibition will include the following s
 ections:\n•    Geology and Geophysics\n•    Oil and Gas Production\n•    Tr
 ansportation and Storage\n•    Oil and Gas Processing - Petrochemistry and 
 Gas-to-Chemicals\n•    Industrial HSE\n•    Control and Instrumentation\n• 
    Information and Communication Technology\n•    Power and Electrical Equi
 pment\nThe leadership of Uzbekistan has tasked to develop a concept on prod
 uction of high value-added products - convert methanol to olefins and synth
 etic hydrocarbons. In this regard, development of projects on construction 
 of gas chemical complexes has been undertaken. This initiative will be pres
 ented to foreign investors at OGU 2019 International Conference.\nBoth OGU 
 Exhibition and Conference convincingly demonstrate their high productivity 
 and are the effective mechanism for interaction of the Government of Uzbeki
 stan, relevant ministries and departments with representatives of oil and g
 as companies to discuss issues of the fuel and energy complex. Favourable i
 nvestment climate creates preconditions for implementation of major project
 s to deepen processing of hydrocarbons and develop new types of products fo
 cusing on the global trends.\nWithin the framework of OGU 2019, B2B and B2G
  meetings will be held between the top managers of Uzbekneftegaz with spons
 ors, exhibition participants and conference delegates.\nThe high status of 
 the event is confirmed by its sponsors, while their list is expected to inc
 rease. The following companies have confirmed their participation in OGU 20
 19 as Gold Sponsors and Strategic Partners: Eriell, Enter Engineering, Hone
 ywell, Hyundai Engineering Co. Ltd., and GPD Central Asia AG.   \nOver the 
 last 23 years, Iteca Exhibitions, together with the ITE Group of Companies,
  has been organizing OGU business events at a highest international level.\
 nFor more information, please contact the Iteca Exhibitions’s Office of Org
 anizers:\nOfficial site: http://www.oilgas.uz/  or  http://oilgasconference
 .uz/\nTel.: + (998 71) 205 18 18, fax: + (998 71) 237 22 72\n
X-EXTRAINFO:http://www.oilgas.uz/  or  http://oilgasconference.uz/
DTSTAMP:20260421T072237Z
DTSTART;TZID=Asia/Kuala_Lumpur:20190515T080000
DTEND;TZID=Asia/Kuala_Lumpur:20190517T170000
SEQUENCE:0
TRANSP:OPAQUE
END:VEVENT
END:VCALENDAR