BEGIN:VCALENDAR
VERSION:2.0
PRODID:-//jEvents 2.0 for Joomla//EN
CALSCALE:GREGORIAN
METHOD:PUBLISH
BEGIN:VTIMEZONE
TZID:Asia/Kuala_Lumpur
BEGIN:STANDARD
DTSTART:20180619T080000
RDATE:20380119T111407
TZOFFSETFROM:+0800
TZOFFSETTO:+0800
TZNAME:Asia/Kuala_Lumpur +08
END:STANDARD
END:VTIMEZONE
BEGIN:VEVENT
UID:e531332a690d092c74bebb95ccd67ccb
CATEGORIES:Oil & Gas
SUMMARY:Digital Oil&Gas Asia Summit (DOA) 2019
LOCATION:Beijing Marriott Hotel Northeast 
DESCRIPTION;ENCODING=QUOTED-PRINTABLE:\n\nDigital Oil&Gas Asia Summit (DOA2019) from 20-21 June 2019 in Beijing. 
 On behalf of the organizing committee, we sincerely invite you to attend DO
 A2019! DOA2019 is the only global event which promotes the digitization pro
 jects for upstream and downstream operations, showcasing innovative solutio
 ns for reducing downtime and achieving operational excellence.  The DOA wil
 l bring together experts from government & association,CIO, CTO, CDO of the
  oil and gas operators, EPC contractors, service and equipment providers fo
 r the upstream and downstream divisions depth exploration into the latest t
 echnology and products, the best quality resources docking to promote the d
 evelopment of industry. We are looking forward to your attendance in Beijin
 g!\n
X-EXTRAINFO:http://www.cdmc.org.cn/2019/doa/ 
DTSTAMP:20260421T072204Z
DTSTART;TZID=Asia/Kuala_Lumpur:20190620T080000
DTEND;TZID=Asia/Kuala_Lumpur:20190621T170000
SEQUENCE:0
TRANSP:OPAQUE
END:VEVENT
END:VCALENDAR