BEGIN:VCALENDAR
VERSION:2.0
PRODID:-//jEvents 2.0 for Joomla//EN
CALSCALE:GREGORIAN
METHOD:PUBLISH
BEGIN:VTIMEZONE
TZID:Asia/Kuala_Lumpur
BEGIN:STANDARD
DTSTART:20180406T080000
RDATE:20380119T111407
TZOFFSETFROM:+0800
TZOFFSETTO:+0800
TZNAME:Asia/Kuala_Lumpur +08
END:STANDARD
END:VTIMEZONE
BEGIN:VEVENT
UID:c1c75dbfe3e1be4b46a8311c8dc7242f
CATEGORIES:Oil & Gas
SUMMARY:The 27th Annual Middle East and Petroleum Gas Conference (MPGC 2019)
LOCATION:Dubai, UAE
DESCRIPTION;ENCODING=QUOTED-PRINTABLE:\n\n\n\n\nThe Iconic annual Middle East Petroleum & Gas Conference (MPGC) i
 n its 27th edition in 2019, is the region’s longest running annual oil and 
 gas conference for the global energy markets, organised by Conference Conne
 ction. \nCo-located with MPGC Week 2019 events,  MPGC brings together the g
 lobal oil markets’ leading NOCs, IOCs, Traders, Refiners, Petrochemical, St
 orage, Financial Institutions and Technology companies, in a confluence of 
 dialogue, debate and business interactions at the highest level as the glob
 al and Middle East upstream and downstream oil and gas markets re-emerge fr
 om the recent turbulence. \nNational oil company hosts in its 27 year histo
 ry, include Abu Dhabi National Oil Company, Emirates National Oil Company, 
 Kuwait Petroleum Corporation, The Bahrain Petroleum Company, and Ministry o
 f Oil & Gas, Sultanate of Oman.\nMPGC enjoys the highest political and indu
 stry support in each location.  Since 1993, MPGC has been held in Dubai, Ab
 u Dhabi, Doha, Bahrain, Kuwait and Oman. More than 3,000 companies are repr
 esented with over 13,000 delegates and 1,250 speakers from 100 countries.  
 MPGC has also received the support of more than 340 corporate sponsors and 
 400 media sponsors.  \n\n\n*For Speaking and Sponsorship opportunities and 
 queries email: This email address is being protected from spambots. You nee
 d JavaScript enabled to view it.
 //
  or This email address is being prote
 cted from spambots. You need JavaScript enabled to view it.
 //
 \n
X-EXTRAINFO:http://www.mpgc.cc/
DTSTAMP:20260421T072059Z
DTSTART;TZID=Asia/Kuala_Lumpur:20190407T080000
DTEND;TZID=Asia/Kuala_Lumpur:20190409T170000
SEQUENCE:0
TRANSP:OPAQUE
END:VEVENT
END:VCALENDAR