BEGIN:VCALENDAR
VERSION:2.0
PRODID:-//jEvents 2.0 for Joomla//EN
CALSCALE:GREGORIAN
METHOD:PUBLISH
BEGIN:VTIMEZONE
TZID:Asia/Kuala_Lumpur
BEGIN:STANDARD
DTSTART:20180312T080000
RDATE:20380119T111407
TZOFFSETFROM:+0800
TZOFFSETTO:+0800
TZNAME:Asia/Kuala_Lumpur +08
END:STANDARD
END:VTIMEZONE
BEGIN:VEVENT
UID:0c8a07bc951d4b11822a3d4abbe5e5d8
CATEGORIES:Oil & Gas
SUMMARY:ASIA PACIFIC WIND ENERGY EXPO 2019
LOCATION:Kaohsiung Exhibition Center, Taiwan
DESCRIPTION;ENCODING=QUOTED-PRINTABLE:
X-EXTRAINFO:http://apacwindenergyexpo.com/index.php/en/
DTSTAMP:20260421T071925Z
DTSTART;TZID=Asia/Kuala_Lumpur:20190313T080000
DTEND;TZID=Asia/Kuala_Lumpur:20190315T170000
SEQUENCE:0
TRANSP:OPAQUE
END:VEVENT
END:VCALENDAR