BEGIN:VCALENDAR
VERSION:2.0
PRODID:-//jEvents 2.0 for Joomla//EN
CALSCALE:GREGORIAN
METHOD:PUBLISH
BEGIN:VTIMEZONE
TZID:Asia/Kuala_Lumpur
BEGIN:STANDARD
DTSTART:20180325T080000
RDATE:20380119T111407
TZOFFSETFROM:+0800
TZOFFSETTO:+0800
TZNAME:Asia/Kuala_Lumpur +08
END:STANDARD
END:VTIMEZONE
BEGIN:VEVENT
UID:96e2c15324daa143c519fa8e5feb608c
CATEGORIES:Oil & Gas
SUMMARY:IPTC 2019
LOCATION:Beijing, China
DESCRIPTION;ENCODING=QUOTED-PRINTABLE:
DTSTAMP:20260421T071924Z
DTSTART;TZID=Asia/Kuala_Lumpur:20190326T080000
DTEND;TZID=Asia/Kuala_Lumpur:20190328T170000
SEQUENCE:0
TRANSP:OPAQUE
END:VEVENT
END:VCALENDAR