BEGIN:VCALENDAR
VERSION:2.0
PRODID:-//jEvents 2.0 for Joomla//EN
CALSCALE:GREGORIAN
METHOD:PUBLISH
BEGIN:VTIMEZONE
TZID:Asia/Kuala_Lumpur
BEGIN:STANDARD
DTSTART:20180408T080000
RDATE:20380119T111407
TZOFFSETFROM:+0800
TZOFFSETTO:+0800
TZNAME:Asia/Kuala_Lumpur +08
END:STANDARD
END:VTIMEZONE
BEGIN:VEVENT
UID:6cc856d74e3f8a5416249025e724f687
CATEGORIES:Oil & Gas
SUMMARY:LPG West Africa 2019
LOCATION:Lagos, Nigeria
DESCRIPTION;ENCODING=QUOTED-PRINTABLE:
X-EXTRAINFO:http://www.gasacademy.com.sg/lpg-africa-2019/
DTSTAMP:20260421T071012Z
DTSTART;TZID=Asia/Kuala_Lumpur:20190409T080000
DTEND;TZID=Asia/Kuala_Lumpur:20190411T170000
SEQUENCE:0
TRANSP:OPAQUE
END:VEVENT
END:VCALENDAR