BEGIN:VCALENDAR
VERSION:2.0
PRODID:-//jEvents 2.0 for Joomla//EN
CALSCALE:GREGORIAN
METHOD:PUBLISH
BEGIN:VTIMEZONE
TZID:Asia/Kuala_Lumpur
BEGIN:STANDARD
DTSTART:20180506T080000
RDATE:20380119T111407
TZOFFSETFROM:+0800
TZOFFSETTO:+0800
TZNAME:Asia/Kuala_Lumpur +08
END:STANDARD
END:VTIMEZONE
BEGIN:VEVENT
UID:dbf6716219199cf1cd5e02c9af4971e1
CATEGORIES:Oil & Gas
SUMMARY:Oil and Gas Cambodia 2019
LOCATION:Phnom Penh, Cambodia
DESCRIPTION;ENCODING=QUOTED-PRINTABLE:\n\n\n\n\n \n\n\n \n\n\n \n\n\n \n\n\n \n\n\n \n\n\n \n\n\n \n\n\n \n\n\n \
 n\n\n \n\n\n \n\n\nOil & Gas Cambodia 2019 aims to gather all the major ind
 ustry stakeholders in the region to network amongst each other whilst heari
 ng from international and local experts at the conference with regards to f
 ocused topics on the upcoming developments in Cambodia. The conference agen
 da has been put together with great help from the Ministry of Mines and Ene
 rgy (Cambodia).\n\n\nWith great support from the Ministry of Mines & Energy
  (Cambodia), and other major industry stakeholders such as PetroVietnam Oil
  and Kampuchea Tela, Oil and Gas Cambodia 2019 will bring about boundless o
 pportunities and great learning takeaways. Be sure to take advantage of thi
 s opportunity to create brand awareness, media exposure and allow us to fac
 ilitate your business matching needs.\n\n\nClick here to view the different
  sponsorship packages for your consideration. To express your interest to t
 his proposed partnership, do contact us at This email address is being prot
 ected from spambots. You need JavaScript enabled to view it.
 //
  or +65 6
 742 1183\n
CONTACT:FREE MAP DISTRIBUTION
X-EXTRAINFO:http://www.gasacademy.com.sg/oil-and-gas-cambodia-2019/
DTSTAMP:20260421T072215Z
DTSTART;TZID=Asia/Kuala_Lumpur:20190507T080000
DTEND;TZID=Asia/Kuala_Lumpur:20190508T170000
SEQUENCE:0
TRANSP:OPAQUE
END:VEVENT
END:VCALENDAR