BEGIN:VCALENDAR
VERSION:2.0
PRODID:-//jEvents 2.0 for Joomla//EN
CALSCALE:GREGORIAN
METHOD:PUBLISH
BEGIN:VTIMEZONE
TZID:Asia/Kuala_Lumpur
BEGIN:STANDARD
DTSTART:20130916T000000
RDATE:20380119T111407
TZOFFSETFROM:+0800
TZOFFSETTO:+0800
TZNAME:Asia/Kuala_Lumpur +08
END:STANDARD
END:VTIMEZONE
BEGIN:VEVENT
UID:754bd1a96c496a3c54138168d14e1c08
CATEGORIES:Oil & Gas
SUMMARY:INTERNATIONAL ENERGY WEEK 2014
LOCATION:Kuching, Sarawak, Malaysia
DESCRIPTION;ENCODING=QUOTED-PRINTABLE: \n\nENERGIZING SUSTAINABLE TRANSFORMATION & OPPORTUNITIES IN SARAWAK\n\n\n
 Sarawak, the rich energy and resource state in Malaysia will host the 2nd I
 nternational Energy Week (IEW) after the successful inaugural event in 2009
 . The IEW 2014 which will be held from 17-19 September 2014 at the Borneo C
 onvention Centre, Kuching is the focal point of the who's who in the energy
 , power and oil & gas industry in the region. Over 5,000 delegates and trad
 e professionals will atend the business-packed International Energy Week 20
 14 which incorporate the ElectroPowerAsia 2014 Exhibtion, the Petroleum Asi
 a 2014 Exhibition, the Asia Infrastructure 2014, the IEW Conference, Techno
 logy Symsposiums and Business Meetings. They will be there to network and b
 enefit from the huge opportunities as demand of energy continues to grow ac
 cross Asia.\n
DTSTAMP:20260421T143818Z
DTSTART;TZID=Asia/Kuala_Lumpur;VALUE=DATE:20140917
DTEND;TZID=Asia/Kuala_Lumpur;VALUE=DATE:20140920
SEQUENCE:0
TRANSP:OPAQUE
END:VEVENT
END:VCALENDAR