BEGIN:VCALENDAR
VERSION:2.0
PRODID:-//jEvents 2.0 for Joomla//EN
CALSCALE:GREGORIAN
METHOD:PUBLISH
BEGIN:VTIMEZONE
TZID:Asia/Kuala_Lumpur
BEGIN:STANDARD
DTSTART:20180903T080000
RDATE:20380119T111407
TZOFFSETFROM:+0800
TZOFFSETTO:+0800
TZNAME:Asia/Kuala_Lumpur +08
END:STANDARD
END:VTIMEZONE
BEGIN:VEVENT
UID:1211a6c17087c8d2e230d5285217690d
CATEGORIES:Oil & Gas
SUMMARY:The 43rd IPA Convention & Exhibition 2019
LOCATION:Jakarta Convention Center, Indonesia
DESCRIPTION;ENCODING=QUOTED-PRINTABLE:\n\nThe 43rd IPA Convention and Exhibition 2019, which is organized by the 
 Indonesian Petroleum Association, will take place from 4-6 September 2019 a
 t the Jakarta Convention Center, Indonesia. Dedicated to the Oil & Gas indu
 stry, IPA Convex 2019 will highlight the ongoing program of exploration act
 ivities in Indonesia, policies and regulations related to the industry incl
 uding relevant operational or support activities, as well as showcasing new
  and innovative technologies. With the support of the Government of Indones
 ia, policy makers, investors and the public, the 43rd IPA Convention and Ex
 hibition 2019 will continue to encourage the active participation of indust
 ry players and professionals and also provide the networking opportunity an
 d learning experience within the oil and gas industry.\n\n\n\nFor further i
 nformation, please visit our website, or contact us at: \nThis email addres
 s is being protected from spambots. You need JavaScript enabled to view it.
 
 //
 \n
CONTACT:FREE MAP DISTRIBUTION
X-EXTRAINFO:https://convex.ipa.or.id/
DTSTAMP:20260421T071931Z
DTSTART;TZID=Asia/Kuala_Lumpur:20190904T080000
DTEND;TZID=Asia/Kuala_Lumpur:20190906T170000
SEQUENCE:0
TRANSP:OPAQUE
END:VEVENT
END:VCALENDAR