BEGIN:VCALENDAR
VERSION:2.0
PRODID:-//jEvents 2.0 for Joomla//EN
CALSCALE:GREGORIAN
METHOD:PUBLISH
BEGIN:VTIMEZONE
TZID:Asia/Kuala_Lumpur
BEGIN:STANDARD
DTSTART:20180730T090000
RDATE:20380119T111407
TZOFFSETFROM:+0800
TZOFFSETTO:+0800
TZNAME:Asia/Kuala_Lumpur +08
END:STANDARD
END:VTIMEZONE
BEGIN:VEVENT
UID:ed42a8eb783f25b0ea9feaaf23a005c7
CATEGORIES:Oil & Gas
SUMMARY:Gas Indonesia Summit & Exhibition 2019
LOCATION:Jakarta Convention Center
DESCRIPTION;ENCODING=QUOTED-PRINTABLE:\n\nGas Indonesia Summit & Exhibition is returning for the fourth edition i
 n Jakarta and is Indonesia’s Most Important Fullstream Natural Gas, LNG & E
 nergy event. Created to enable business partnerships, stimulate investment-
 friendly conversations and to facilitate the advancement of Indonesia’s ene
 rgy development.\n\n\nCapitalising on new gas discoveries, improving the sp
 eed of natural gas infrastructure integration and driving diversity and inc
 lusion in the workplace and amongst the topics that will be addressed at th
 e Gas Indonesia Summit 2019, along with many more important themes.\n\n\nJo
 in us in Jakarta from 31 July – 2 August 2019 and connect with Indonesia’s 
 gas, LNG and energy decision-makers as they share their insights and plans 
 for the sectors, whilst engaging in dialogue that will shape Indonesia’s ne
 w energy reality.\n
CONTACT:FREE MAP DISTRIBUTION
X-EXTRAINFO:Address: Jl. Jend. Gatot Subroto, Jakarta 10270 P.O. Box 4916, Jakarta 1004
 9, Indonesia\n\nhttp://www.gasindosummit.com/
DTSTAMP:20260421T071733Z
DTSTART;TZID=Asia/Kuala_Lumpur:20190731T090000
DTEND;TZID=Asia/Kuala_Lumpur:20190802T170000
SEQUENCE:0
TRANSP:OPAQUE
END:VEVENT
END:VCALENDAR