BEGIN:VCALENDAR
VERSION:2.0
PRODID:-//jEvents 2.0 for Joomla//EN
CALSCALE:GREGORIAN
METHOD:PUBLISH
BEGIN:VTIMEZONE
TZID:Asia/Kuala_Lumpur
BEGIN:STANDARD
DTSTART:20181015T080000
RDATE:20380119T111407
TZOFFSETFROM:+0800
TZOFFSETTO:+0800
TZNAME:Asia/Kuala_Lumpur +08
END:STANDARD
END:VTIMEZONE
BEGIN:VEVENT
UID:b11d3b993db99831c5fa7901c73757a3
CATEGORIES:Oil & Gas
SUMMARY:5th CWC China LNG & Gas International Summit & Exhibition
LOCATION:Beijing, China
DESCRIPTION;ENCODING=QUOTED-PRINTABLE:
X-EXTRAINFO:https://www.chinalngsummit.com/
DTSTAMP:20260421T072408Z
DTSTART;TZID=Asia/Kuala_Lumpur:20191016T080000
DTEND;TZID=Asia/Kuala_Lumpur:20191017T170000
SEQUENCE:0
TRANSP:OPAQUE
END:VEVENT
END:VCALENDAR