BEGIN:VCALENDAR
VERSION:2.0
PRODID:-//jEvents 2.0 for Joomla//EN
CALSCALE:GREGORIAN
METHOD:PUBLISH
BEGIN:VTIMEZONE
TZID:Asia/Kuala_Lumpur
BEGIN:STANDARD
DTSTART:20180520T080000
RDATE:20380119T111407
TZOFFSETFROM:+0800
TZOFFSETTO:+0800
TZNAME:Asia/Kuala_Lumpur +08
END:STANDARD
END:VTIMEZONE
BEGIN:VEVENT
UID:4b25a46a61d710944c74806bb9a2b698
CATEGORIES:Oil & Gas
SUMMARY:CWC World Gas & Power Series: Brazil Summit
LOCATION:Rio De Janeiro, Brazil
DESCRIPTION;ENCODING=QUOTED-PRINTABLE:
X-EXTRAINFO:https://lngamericas.cwclng.com/
DTSTAMP:20260421T072534Z
DTSTART;TZID=Asia/Kuala_Lumpur:20190521T080000
DTEND;TZID=Asia/Kuala_Lumpur:20190523T170000
SEQUENCE:0
TRANSP:OPAQUE
END:VEVENT
END:VCALENDAR