BEGIN:VCALENDAR
VERSION:2.0
PRODID:-//jEvents 2.0 for Joomla//EN
CALSCALE:GREGORIAN
METHOD:PUBLISH
BEGIN:VTIMEZONE
TZID:Asia/Kuala_Lumpur
BEGIN:STANDARD
DTSTART:20180218T080000
RDATE:20380119T111407
TZOFFSETFROM:+0800
TZOFFSETTO:+0800
TZNAME:Asia/Kuala_Lumpur +08
END:STANDARD
END:VTIMEZONE
BEGIN:VEVENT
UID:f6b661be834a994b00557e816e24dfb2
CATEGORIES:Oil & Gas
SUMMARY:Global LNG Forum 2019
LOCATION:Milano, Italy
DESCRIPTION;ENCODING=QUOTED-PRINTABLE:
X-EXTRAINFO:https://lng-global.com/
DTSTAMP:20260421T071232Z
DTSTART;TZID=Asia/Kuala_Lumpur:20190219T080000
DTEND;TZID=Asia/Kuala_Lumpur:20190220T170000
SEQUENCE:0
TRANSP:OPAQUE
END:VEVENT
END:VCALENDAR