BEGIN:VCALENDAR
VERSION:2.0
PRODID:-//jEvents 2.0 for Joomla//EN
CALSCALE:GREGORIAN
METHOD:PUBLISH
BEGIN:VTIMEZONE
TZID:Asia/Kuala_Lumpur
BEGIN:STANDARD
DTSTART:20180520T080000
RDATE:20380119T111407
TZOFFSETFROM:+0800
TZOFFSETTO:+0800
TZNAME:Asia/Kuala_Lumpur +08
END:STANDARD
END:VTIMEZONE
BEGIN:VEVENT
UID:085b92bd18f3353bd5ae6ae17d6df818
CATEGORIES:Oil & Gas
SUMMARY:Canada Gas & LNG Exhibition and Conference 2019
LOCATION:Vancouver, Canada
DESCRIPTION;ENCODING=QUOTED-PRINTABLE:
X-EXTRAINFO:https://canadagaslng.com/
DTSTAMP:20260421T071703Z
DTSTART;TZID=Asia/Kuala_Lumpur:20190521T080000
DTEND;TZID=Asia/Kuala_Lumpur:20190523T170000
SEQUENCE:0
TRANSP:OPAQUE
END:VEVENT
END:VCALENDAR