BEGIN:VCALENDAR
VERSION:2.0
PRODID:-//jEvents 2.0 for Joomla//EN
CALSCALE:GREGORIAN
METHOD:PUBLISH
BEGIN:VTIMEZONE
TZID:Asia/Kuala_Lumpur
BEGIN:STANDARD
DTSTART:20181016T080000
RDATE:20380119T111407
TZOFFSETFROM:+0800
TZOFFSETTO:+0800
TZNAME:Asia/Kuala_Lumpur +08
END:STANDARD
END:VTIMEZONE
BEGIN:VEVENT
UID:d4d71e08aa798e5ef8d82f5f7d81ffb6
CATEGORIES:Oil & Gas
SUMMARY:International Natural Gas Congress and Fair (INGAS 2019)
LOCATION:Istanbul, Turkey
DESCRIPTION;ENCODING=QUOTED-PRINTABLE:\n\nThe biggest congress and fair in natural gas sector in Turkey, 8th Inte
 rnational Natural Gas Congress and Fair (INGAS 2019) will be organized on 1
 7-18 October 2019 at Halic Congress Center, Istanbul, Turkey. INGAS 2019 is
  hosted by Istanbul Gas Distribution Industry and Trade Incorporated Co (IG
 DAS) which is widely accepted as a school of natural gas in Turkey. Republi
 c of Turkey Ministry of Energy and Natural Resources, Republic of Turkey En
 ergy Market Regulatory Authority, Istanbul Metropolitan Municipality and ma
 ny other institutions, organizations and associations support INGAS 2019.\n
 INGAS 2019 will provide an international platform which discuss improvement
 s for gas market, sustainable use of natural gas and evaluating projects th
 at make Turkey a hub for natural gas Trade\n
X-EXTRAINFO:http://www.ingas.istanbul/en/index.html
DTSTAMP:20260421T095736Z
DTSTART;TZID=Asia/Kuala_Lumpur:20191017T080000
DTEND;TZID=Asia/Kuala_Lumpur:20191018T170000
SEQUENCE:0
TRANSP:OPAQUE
END:VEVENT
END:VCALENDAR