BEGIN:VCALENDAR
VERSION:2.0
PRODID:-//jEvents 2.0 for Joomla//EN
CALSCALE:GREGORIAN
METHOD:PUBLISH
BEGIN:VTIMEZONE
TZID:Asia/Kuala_Lumpur
BEGIN:STANDARD
DTSTART:20180405T080000
RDATE:20380119T111407
TZOFFSETFROM:+0800
TZOFFSETTO:+0800
TZNAME:Asia/Kuala_Lumpur +08
END:STANDARD
END:VTIMEZONE
BEGIN:VEVENT
UID:6cac40f62f9a6dd9b3c576627325e533
CATEGORIES:Maritime 
SUMMARY:Singapore Maritime Week 2019
LOCATION:Singapore
DESCRIPTION;ENCODING=QUOTED-PRINTABLE:\n\n\n\n\nDriven by the Maritime and Port Authority of Singapore (MPA), Sin
 gapore Maritime Week (SMW) gathers the international maritime community for
  a week of flagship conferences, dialogues, exhibitions and social events i
 n celebration of all things maritime. The range of activities and events or
 ganised by MPA, industry stakeholders, research and educational institution
 s, as well as the cosmopolitan profile of participants, reflect the vibranc
 y and diversity of Singapore as a global hub port and leading international
  maritime centre.\n\n\nSingapore Maritime Week sees the participation of ov
 er 30 events every year and has grown to be one of the region’s foremost ma
 ritime events, attracting a high-profile international audience from all ov
 er the world.www.smw.sg\n
X-EXTRAINFO:www.smw.sg 
DTSTAMP:20260421T071014Z
DTSTART;TZID=Asia/Kuala_Lumpur:20190406T080000
DTEND;TZID=Asia/Kuala_Lumpur:20190414T170000
SEQUENCE:0
TRANSP:OPAQUE
END:VEVENT
END:VCALENDAR