BEGIN:VCALENDAR
VERSION:2.0
PRODID:-//jEvents 2.0 for Joomla//EN
CALSCALE:GREGORIAN
METHOD:PUBLISH
BEGIN:VTIMEZONE
TZID:Asia/Kuala_Lumpur
BEGIN:STANDARD
DTSTART:20180413T080000
RDATE:20380119T111407
TZOFFSETFROM:+0800
TZOFFSETTO:+0800
TZNAME:Asia/Kuala_Lumpur +08
END:STANDARD
END:VTIMEZONE
BEGIN:VEVENT
UID:999826a92f4fddb7618fbf69483f6d6b
CATEGORIES:Oil & Gas
SUMMARY:Oil & Gas Fiesta -Pengerang 2019
LOCATION:Pengerang, Johor, Malaysia
DESCRIPTION;ENCODING=QUOTED-PRINTABLE:\n\nOil & Gas Roadshow (ogR) is introduced in assisting oil & gas and other
  heavy industry companies to meet with local oil & gas end users, engineeri
 ng companies, OEMs, contractors and supplies. The iR is aiming at the maxim
 um interaction among industry personnel from Plant Engineering, Production,
  Maintenance, R&D & Project Engineering, QA/QC, Facility Management, Integr
 ity, Safety, Environmental, Purchasing and other engineering related depart
 ments to get updates on technologies being applied to the oil & gas, offsho
 re, deepwater & subsea engineering, petrochemical, chemical processing, pow
 er, fertilizer, oil palm, pulp & paper, marine & shipbuilding, steel mil an
 d various heavy industries.\n
X-EXTRAINFO:Malaysia +60 16 2181 218\nSingapore +65 6405 0110\nwww.industrialroadshow.c
 om
DTSTAMP:20260421T072216Z
DTSTART;TZID=Asia/Kuala_Lumpur:20190414T080000
DTEND;TZID=Asia/Kuala_Lumpur:20190415T170000
SEQUENCE:0
TRANSP:OPAQUE
END:VEVENT
END:VCALENDAR