BEGIN:VCALENDAR
VERSION:2.0
PRODID:-//jEvents 2.0 for Joomla//EN
CALSCALE:GREGORIAN
METHOD:PUBLISH
BEGIN:VTIMEZONE
TZID:Asia/Kuala_Lumpur
BEGIN:STANDARD
DTSTART:20140422T000000
RDATE:20380119T111407
TZOFFSETFROM:+0800
TZOFFSETTO:+0800
TZNAME:Asia/Kuala_Lumpur +08
END:STANDARD
END:VTIMEZONE
BEGIN:VEVENT
UID:900bcbb295674d6dfc5349a99c7a6204
CATEGORIES:Oil & Gas
SUMMARY:POGEE 2015 - 13TH INTERNATIONAL EXHIBITION FOR THE ENERGY INDUSTRY
LOCATION:Karachi Expo Centre, Pakistan
DESCRIPTION;ENCODING=QUOTED-PRINTABLE:\n\nPegasus Consultancy is the leading Event Organizer in Pakistan & have b
 een conducting International Exhibition for Energy Industry featuring Oil &
  Gas Pakistan and Power Technology Pakistan; since past 12 years in Pakista
 n. The next edition is scheduled to be held in April 2015.\nLeading compani
 es from Exploration, Production, Refining, supplies, Marketing & Transporta
 tion Services, Generation, Transmission, Solar & Renewable sector participa
 te in the show.\nWe are not only the organizers but we are consultants as w
 ell & help the participants to generate business leads through the platform
  of the exhibition. Upon receiving the early confirmation, we start promoti
 ng the company through email shots and arrange their business meetings prio
 r to the show with the companies related to their business profile. Please 
 note that we have a SPECIAL FLY IN BUYER PROGRAM in which we invite buyers 
 & Top Government Officials from up country on our own expense, to make sure
  that participating company gets good business.....find out more\n
X-EXTRAINFO:Organize Pegasus Consultancy Pvt Ltd\nFor more details of the show or the c
 ompany, please visit our website www.pogee.com.pk or www.pegasus.com.pk
DTSTAMP:20260421T130009Z
DTSTART;TZID=Asia/Kuala_Lumpur;VALUE=DATE:20150423
DTEND;TZID=Asia/Kuala_Lumpur;VALUE=DATE:20150426
SEQUENCE:0
TRANSP:OPAQUE
END:VEVENT
END:VCALENDAR