BEGIN:VCALENDAR
VERSION:2.0
PRODID:-//jEvents 2.0 for Joomla//EN
CALSCALE:GREGORIAN
METHOD:PUBLISH
BEGIN:VTIMEZONE
TZID:Asia/Kuala_Lumpur
BEGIN:STANDARD
DTSTART:20180318T080000
RDATE:20380119T111407
TZOFFSETFROM:+0800
TZOFFSETTO:+0800
TZNAME:Asia/Kuala_Lumpur +08
END:STANDARD
END:VTIMEZONE
BEGIN:VEVENT
UID:29703c55dbe0d3eaaa5c1a988a886dfc
CATEGORIES:Oil & Gas
SUMMARY:3rd Papua New Guinea Petroleum & Energy Summit 2019
LOCATION:Port Moresby, Papua New Guinea
DESCRIPTION;ENCODING=QUOTED-PRINTABLE:\n\nPNG Petroleum & Energy Summit 2019\nThe third CWC Papua New Guinea Petr
 oleum and Energy Summit is held under the patronage of the Prime Minister o
 f Papua New Guinea, Rt. Hon. Peter O’Neill, CMG MP and endorsed by the Mini
 ster of Petroleum Hon. Dr Fabian Pok Mec Ph.D MP and the Minister of Commun
 ication, Information Technology & Energy, Hon. Sam Basil MP.\nThe Summit br
 ings together senior government officials and all of the major industry pla
 yers working in PNG, to discuss current energy projects and the future stra
 tegies for expansion.\nAs the dedicated event for oil, gas and power for PN
 G, this is your opportunity to tap into exciting business opportunities in 
 this region and build long-term relationships with senior-level decision ma
 kers.\n\n\nKey reasons to attend the 2019 Summit\n•    It’s the only intern
 ational event focusing on the PNG petroleum and energy industry, taking pla
 ce in Port Moresby\n•    The Summit will provide the latest updates on key 
 projects in PNG and find out about energy expansion strategies\n•    You’ll
  get to meet and do business with some of the biggest names in the oil, gas
  and power industries\n•    You’ll get a chance to network during breakfast
 , lunch and after hours events with over 500 attendees\n•    By participati
 ng in our interactive roundtables, you will make new contacts and have your
  say on key issues affecting the energy sector\n
CONTACT:FREE MAP DISTRIBUTION
X-EXTRAINFO:For more information, please contact  This email address is being protected
  from spambots. You need JavaScript enabled to view it.
 //
  or visit http
 s://www.pngsummit.com/
DTSTAMP:20260421T072237Z
DTSTART;TZID=Asia/Kuala_Lumpur:20190319T080000
DTEND;TZID=Asia/Kuala_Lumpur:20190321T170000
SEQUENCE:0
TRANSP:OPAQUE
END:VEVENT
END:VCALENDAR