BEGIN:VCALENDAR
VERSION:2.0
PRODID:-//jEvents 2.0 for Joomla//EN
CALSCALE:GREGORIAN
METHOD:PUBLISH
BEGIN:VTIMEZONE
TZID:Asia/Kuala_Lumpur
BEGIN:STANDARD
DTSTART:20171120T080000
RDATE:20380119T111407
TZOFFSETFROM:+0800
TZOFFSETTO:+0800
TZNAME:Asia/Kuala_Lumpur +08
END:STANDARD
END:VTIMEZONE
BEGIN:VEVENT
UID:4e24750d74b34cd0422ec76e72bbaa97
CATEGORIES:Maritime 
SUMMARY:INAMARINE -Surabaya 2018
LOCATION:Surabaya, Indonesia
DESCRIPTION;ENCODING=QUOTED-PRINTABLE:\n\n\n\n\nINAMARINE Surabaya 2018 - Bridging to Indonesia's Mayor Ship Buil
 ding\n\n\nThe INAMARINE Surabaya 2018 will be supported by IPERINDO (Indone
 sia Shipyard and Offshore Association) and the show is design to the featur
 e the marine latest technology, innovations and services to support the Mar
 itime Highway Project. \n \n Surabaya has become the most important as the 
 Indonesia maritime development zones shaft, with the construction of submar
 ines and ships goods transportation for 500 GT – 10.000 GT. Most of the maj
 or shipyards located around Surabaya that are instructed by Indonesia Presi
 dent to construct vessels for implementation of Maritime Highway Vision (To
 l Laut).\n  \n\n\nThe highlight of INAMARINE Surabaya 2018 including:\n 1. 
 200 Exhibiting Companies\n 2. Products Zone:   - Shipbuilding & Shiprepair\
 n                              - Marine Enqine and Equipment\n             
                  - Marine Coating\n                              - Ship Wel
 ding and Underwater Welding\n                              - Offshore and P
 ort Equipment\n                              - Satellite Communication \n  
                             - Port and Logistics\n \n\n\nINAMARINE Surabaya
  2018 will be the important Indonesia maritime event and offer a grand oppo
 rtunity to network with Indonesia's leading shipyard, ship repairs, ship bu
 ilding, buyers, importers, distributors, marine’s supply chain and lead you
 r business to greater success and gain market access to the market. The Exp
 o will be co-locating withINAWELDING Surabaya 2018, INAPA Surabaya 2018. It
  will be notably serve as one of the Eastern Indonesia’s most prospective o
 ne-stop exhibition for suppliers and any shipyard, shipbuilding, offshore, 
 port, welding, logistics, automotive aftermarket and other related industri
 es. This exciting and unique event will be expected to bring together more 
 than 9,000 industry related professionals to address the important concerns
 \n \n \n
CONTACT:FREE MAP DISTRIBUTION
X-EXTRAINFO:This email address is being protected from spambots. You need JavaScript en
 abled to view it.
 //
 
DTSTAMP:20260421T083331Z
DTSTART;TZID=Asia/Kuala_Lumpur:20181121T080000
DTEND;TZID=Asia/Kuala_Lumpur:20181123T170000
SEQUENCE:0
TRANSP:OPAQUE
END:VEVENT
END:VCALENDAR