BEGIN:VCALENDAR
VERSION:2.0
PRODID:-//jEvents 2.0 for Joomla//EN
CALSCALE:GREGORIAN
METHOD:PUBLISH
BEGIN:VTIMEZONE
TZID:Asia/Kuala_Lumpur
BEGIN:STANDARD
DTSTART:20171030T083000
RDATE:20380119T111407
TZOFFSETFROM:+0800
TZOFFSETTO:+0800
TZNAME:Asia/Kuala_Lumpur +08
END:STANDARD
END:VTIMEZONE
BEGIN:VEVENT
UID:d6eb2248f5793d4f6e2160f439c8910b
CATEGORIES:Oil & Gas
SUMMARY:Gas Asia Summit 2018
LOCATION:Singapore
DESCRIPTION;ENCODING=QUOTED-PRINTABLE:\n\nGAS Singapore returns to Marina Bay Sands for the 6th year as an integr
 al component of Singapore International Energy Week (SIEW).\n\n\nGAS Singap
 ore is the only natural gas-focused commercial conference within the SIEW f
 ramework and has been developed under the theme: Your Gateway to New Natura
 l Gas & LNG Opportunities. GAS 2018 will firmly position Singapore as a lea
 ding trading, services and innovation hub and will serve as a key platform 
 for developing new business and knowledge exchange within the natural gas a
 nd LNG community.\n\n\nJoin us at GAS and connect to energy professionals i
 n Singapore and the region shaping the natural gas and LNG industry.\n
CONTACT:FREE MAP DISTRIBUTION
X-EXTRAINFO:http://www.gasasiasummit.com/
DTSTAMP:20260421T084213Z
DTSTART;TZID=Asia/Kuala_Lumpur:20181031T083000
DTEND;TZID=Asia/Kuala_Lumpur:20181101T170000
SEQUENCE:0
TRANSP:OPAQUE
END:VEVENT
END:VCALENDAR